BEGIN:VCALENDAR
VERSION:2.0
PRODID:-//Dirigo Safety - ECPv6.15.20//NONSGML v1.0//EN
CALSCALE:GREGORIAN
METHOD:PUBLISH
X-WR-CALNAME:Dirigo Safety
X-ORIGINAL-URL:https://dirigosafety.com
X-WR-CALDESC:Events for Dirigo Safety
REFRESH-INTERVAL;VALUE=DURATION:PT1H
X-Robots-Tag:noindex
X-PUBLISHED-TTL:PT1H
BEGIN:VTIMEZONE
TZID:America/New_York
BEGIN:DAYLIGHT
TZOFFSETFROM:-0500
TZOFFSETTO:-0400
TZNAME:EDT
DTSTART:20250309T070000
END:DAYLIGHT
BEGIN:STANDARD
TZOFFSETFROM:-0400
TZOFFSETTO:-0500
TZNAME:EST
DTSTART:20251102T060000
END:STANDARD
BEGIN:DAYLIGHT
TZOFFSETFROM:-0500
TZOFFSETTO:-0400
TZNAME:EDT
DTSTART:20260308T070000
END:DAYLIGHT
BEGIN:STANDARD
TZOFFSETFROM:-0400
TZOFFSETTO:-0500
TZNAME:EST
DTSTART:20261101T060000
END:STANDARD
BEGIN:DAYLIGHT
TZOFFSETFROM:-0500
TZOFFSETTO:-0400
TZNAME:EDT
DTSTART:20270314T070000
END:DAYLIGHT
BEGIN:STANDARD
TZOFFSETFROM:-0400
TZOFFSETTO:-0500
TZNAME:EST
DTSTART:20271107T060000
END:STANDARD
END:VTIMEZONE
BEGIN:VEVENT
DTSTART;TZID=America/New_York:20260422T080000
DTEND;TZID=America/New_York:20260422T160000
DTSTAMP:20260422T014651
CREATED:20251204T165444Z
LAST-MODIFIED:20260410T141023Z
UID:37964-1776844800-1776873600@dirigosafety.com
SUMMARY:FTO Supervisors
DESCRIPTION:Instructor:\nKyle Tilsley \n			\n			\n				\n				\n				\n				\n				\n				\n				\n				\n				\n				FTO Supervisors\nApril 22 @ 8:00 am – 4:00 pm\nThis course is designed for law enforcement personnel tasked with supervising their agency’s Field Training Program\, offering a clear understanding of the Field Training Supervisor’s vital role. Participants will learn how to effectively manage program structure\, ensure documentation accuracy\, and maintain strong communication between FTO staff and agency leadership. The class also focuses on resolving training challenges and interpersonal conflicts to support both field trainers and probationary officers. By the end of this training\, supervisors will be equipped to lead a successful and accountable FTO program. \nCourse Objectives: \n\nProvide effective management and oversight of the agency’s Field Training Program.\nCoordinate scheduling\, structure\, and overall organization of field training operations.\nIdentify training issues or conflicts and implement constructive solutions.\nEnsure accurate review and completion of all field training documentation and records.\nFacilitate consistent communication between FTO staff\, leadership\, and other agency personnel.\n\nEquipment Needed: \n\nNone
URL:https://dirigosafety.com/class/fto-supervisors-4-22-26/
LOCATION:Dirigo Safety\, LLC\, 95 Main Street\, Auburn\, ME\, 04210\, United States
CATEGORIES:Corrections,Law Enforcement
ATTACH;FMTTYPE=image/png:https://dirigosafety.com/wp-content/uploads/2025/11/FTO-Supervisors.png
END:VEVENT
END:VCALENDAR