BEGIN:VCALENDAR
VERSION:2.0
PRODID:-//Dirigo Safety - ECPv6.15.20//NONSGML v1.0//EN
CALSCALE:GREGORIAN
METHOD:PUBLISH
X-WR-CALNAME:Dirigo Safety
X-ORIGINAL-URL:https://dirigosafety.com
X-WR-CALDESC:Events for Dirigo Safety
REFRESH-INTERVAL;VALUE=DURATION:PT1H
X-Robots-Tag:noindex
X-PUBLISHED-TTL:PT1H
BEGIN:VTIMEZONE
TZID:America/New_York
BEGIN:DAYLIGHT
TZOFFSETFROM:-0500
TZOFFSETTO:-0400
TZNAME:EDT
DTSTART:20250309T070000
END:DAYLIGHT
BEGIN:STANDARD
TZOFFSETFROM:-0400
TZOFFSETTO:-0500
TZNAME:EST
DTSTART:20251102T060000
END:STANDARD
BEGIN:DAYLIGHT
TZOFFSETFROM:-0500
TZOFFSETTO:-0400
TZNAME:EDT
DTSTART:20260308T070000
END:DAYLIGHT
BEGIN:STANDARD
TZOFFSETFROM:-0400
TZOFFSETTO:-0500
TZNAME:EST
DTSTART:20261101T060000
END:STANDARD
BEGIN:DAYLIGHT
TZOFFSETFROM:-0500
TZOFFSETTO:-0400
TZNAME:EDT
DTSTART:20270314T070000
END:DAYLIGHT
BEGIN:STANDARD
TZOFFSETFROM:-0400
TZOFFSETTO:-0500
TZNAME:EST
DTSTART:20271107T060000
END:STANDARD
END:VTIMEZONE
BEGIN:VEVENT
DTSTART;TZID=America/New_York:20260330T080000
DTEND;TZID=America/New_York:20260330T160000
DTSTAMP:20260422T112455
CREATED:20251204T163230Z
LAST-MODIFIED:20260309T232124Z
UID:37952-1774857600-1774886400@dirigosafety.com
SUMMARY:Sexual Assault Investigations
DESCRIPTION:Instructor:\nMichael Chavez \n			\n			\n				\n				\n				\n				\n				\n				\n				\n				\n				\n				Sexual Assault Investigations\nMarch 30 @ 8:00 am – 4:00 pm\nSexual assault investigations are among the most complex and sensitive cases a detective or prospective investigator may encounter. This course offers a structured yet adaptable approach to securing critical evidence\, interviewing witnesses\, and preparing thorough documentation for successful prosecution and liability prevention. Students will explore the mindset of the Offender and understand the categories of Offender profiles to apply to unknown assailant investigations. Additional focus will be placed on victim-centered practices\, forensic tools\, and interagency collaboration specific to Maine’s investigative resources. \nCourse Objectives: \n\nIdentify best practices for collecting\, preserving\, and analyzing evidence in sexual assault cases.\nUnderstand the Offender mindset and categories of Offender profiles\nGain proficiency in the use and storage of sexual assault kits and collaborate effectively with Children’s Advocacy Centers.\nLearn trauma-informed strategies for interviewing victims and engaging them with appropriate support resources.\nDevelop comprehensive documentation skills that support prosecution and reduce agency liability.\n\nEquipment Needed: \n\nNone
URL:https://dirigosafety.com/class/sexual-assault-investigations-3-30-26/
LOCATION:Dirigo Safety\, LLC\, 95 Main Street\, Auburn\, ME\, 04210\, United States
CATEGORIES:Corrections,Law Enforcement
ATTACH;FMTTYPE=image/png:https://dirigosafety.com/wp-content/uploads/2025/11/Sexual-Assault-Investigations.png
END:VEVENT
END:VCALENDAR