BEGIN:VCALENDAR
VERSION:2.0
PRODID:-//Dirigo Safety - ECPv6.15.20//NONSGML v1.0//EN
CALSCALE:GREGORIAN
METHOD:PUBLISH
X-WR-CALNAME:Dirigo Safety
X-ORIGINAL-URL:https://dirigosafety.com
X-WR-CALDESC:Events for Dirigo Safety
REFRESH-INTERVAL;VALUE=DURATION:PT1H
X-Robots-Tag:noindex
X-PUBLISHED-TTL:PT1H
BEGIN:VTIMEZONE
TZID:America/New_York
BEGIN:DAYLIGHT
TZOFFSETFROM:-0500
TZOFFSETTO:-0400
TZNAME:EDT
DTSTART:20250309T070000
END:DAYLIGHT
BEGIN:STANDARD
TZOFFSETFROM:-0400
TZOFFSETTO:-0500
TZNAME:EST
DTSTART:20251102T060000
END:STANDARD
BEGIN:DAYLIGHT
TZOFFSETFROM:-0500
TZOFFSETTO:-0400
TZNAME:EDT
DTSTART:20260308T070000
END:DAYLIGHT
BEGIN:STANDARD
TZOFFSETFROM:-0400
TZOFFSETTO:-0500
TZNAME:EST
DTSTART:20261101T060000
END:STANDARD
BEGIN:DAYLIGHT
TZOFFSETFROM:-0500
TZOFFSETTO:-0400
TZNAME:EDT
DTSTART:20270314T070000
END:DAYLIGHT
BEGIN:STANDARD
TZOFFSETFROM:-0400
TZOFFSETTO:-0500
TZNAME:EST
DTSTART:20271107T060000
END:STANDARD
END:VTIMEZONE
BEGIN:VEVENT
DTSTART;TZID=America/New_York:20260407T080000
DTEND;TZID=America/New_York:20260407T160000
DTSTAMP:20260422T063230
CREATED:20251209T133400Z
LAST-MODIFIED:20260330T134229Z
UID:38047-1775548800-1775577600@dirigosafety.com
SUMMARY:Internal Affairs
DESCRIPTION:Instructor:\nMichael A. Cunniff​\, Esq. \n			\n			\n				\n				\n				\n				\n				\n				\n				\n				\n				\n				Internal Affairs\nApril 7 @ 8:00 am – 4:00 pm\nThis interactive course provides a comprehensive overview of the principles underlying internal affairs investigations including police accountability\, due process\, and fairness considerations. Participants will explore the internal investigative process from multiple perspectives\, such as those of the affected officer\, union representatives\, legal counsel\, internal investigators\, and oversight authorities responsible for dispositions of complaints against agency personnel. Emphasis is placed on investigative proceedings that are designed to generate evidence-based\, just outcomes that simultaneously promote public confidence in the institution and the rights and responsibilities of all parties involved. The course also addresses management practices that may lead to flawed or otherwise unjust internal dispositions and offers practical policy solutions to those potential concerns. \nCourse Objectives: \n\nUnderstand the full internal affairs process from initial complaint to final disposition\, including all stakeholder roles.\nUnderstand the various sources of employee liability for sustained misconduct allegations\, as well as the potential relationship between an internal investigation and parallel mechanisms of oversight.\nApply best practices for conducting fair\, thorough\, and unbiased internal investigations.\nIdentify and address management practices that may compromise the integrity of investigative outcomes.\nExamine legal and procedural safeguards that protect both the agency and an affected agency member.\nPromote accountability through transparent\, evidence-based decision-making that strengthens public trust.\n\nEquipment Needed: \n\nNone\n\nMLEAP Accreditation Standard: \n\nThis course meets MLEAP Standard 3.19 – Internal Affairs Investigator Training\n\n			\n				Download MLEAP Training Proof
URL:https://dirigosafety.com/class/internal-affairs-4-7-26/
LOCATION:Dirigo Safety\, LLC\, 95 Main Street\, Auburn\, ME\, 04210\, United States
CATEGORIES:Law Enforcement
ATTACH;FMTTYPE=image/png:https://dirigosafety.com/wp-content/uploads/2025/12/Internal-Affairs.png
END:VEVENT
END:VCALENDAR